BEGIN:VCALENDAR
VERSION:2.0
PRODID:-//www.gramonet.cz//GramonetCalLib 1.0//EN
CALSCALE:GREGORIAN
METHOD:PUBLISH
BEGIN:VEVENT
SUMMARY:Barvy Života
LOCATION:Dusíkovo divadlo Čáslav
DTSTART:20250116T000000
DTEND:20250701T000000
UID:2026-04-19-19-31-25@infocaslav.cz
DTSTAMP:20260419T173125
Description:
END:VEVENT
END:VCALENDAR
