BEGIN:VCALENDAR
VERSION:2.0
PRODID:-//www.gramonet.cz//GramonetCalLib 1.0//EN
CALSCALE:GREGORIAN
METHOD:PUBLISH
BEGIN:VEVENT
SUMMARY:Bašta pro všechny
LOCATION:Bašta za evangelickou farou
DTSTART:20240616T000000
DTEND:20240617T000000
UID:2026-04-19-19-32-41@infocaslav.cz
DTSTAMP:20260419T173241
Description:
END:VEVENT
END:VCALENDAR
