BEGIN:VCALENDAR
VERSION:2.0
PRODID:-//www.gramonet.cz//GramonetCalLib 1.0//EN
CALSCALE:GREGORIAN
METHOD:PUBLISH
BEGIN:VEVENT
SUMMARY:Bašta pro všechny
LOCATION:Bašta Čáslav
DTSTART:20250615T000000
DTEND:20250616T000000
UID:2026-04-19-21-04-57@infocaslav.cz
DTSTAMP:20260419T190457
Description:
END:VEVENT
END:VCALENDAR
