BEGIN:VCALENDAR
VERSION:2.0
PRODID:-//www.gramonet.cz//GramonetCalLib 1.0//EN
CALSCALE:GREGORIAN
METHOD:PUBLISH
BEGIN:VEVENT
SUMMARY:Bedřich Smetana: Otec české hudby
LOCATION:Chotěboř knihovna
DTSTART:20240521T000000
DTEND:20240522T000000
UID:2026-04-19-19-36-03@infocaslav.cz
DTSTAMP:20260419T173603
Description:
END:VEVENT
END:VCALENDAR
