BEGIN:VCALENDAR
VERSION:2.0
PRODID:-//www.gramonet.cz//GramonetCalLib 1.0//EN
CALSCALE:GREGORIAN
METHOD:PUBLISH
BEGIN:VEVENT
SUMMARY:Benefiční koncert
LOCATION:Kostel sv. Petra a Pavla
DTSTART:20250608T000000
DTEND:20250609T000000
UID:2026-04-19-19-26-15@infocaslav.cz
DTSTAMP:20260419T172615
Description:Benefiční koncert na podporu Dominika z Čáslavi
END:VEVENT
END:VCALENDAR
