BEGIN:VCALENDAR
VERSION:2.0
PRODID:-//www.gramonet.cz//GramonetCalLib 1.0//EN
CALSCALE:GREGORIAN
METHOD:PUBLISH
BEGIN:VEVENT
SUMMARY:Beseda - Budoucnost v našich rukách: změna systému
LOCATION:Pivovarská restaurace Čáslav
DTSTART:20240125T000000
DTEND:20240126T000000
UID:2026-04-19-19-27-38@infocaslav.cz
DTSTAMP:20260419T172738
Description:
END:VEVENT
END:VCALENDAR
