BEGIN:VCALENDAR
VERSION:2.0
PRODID:-//www.gramonet.cz//GramonetCalLib 1.0//EN
CALSCALE:GREGORIAN
METHOD:PUBLISH
BEGIN:VEVENT
SUMMARY:Beseda s astronautem Alešem Svobodou
LOCATION:Dusíkovo divadlo
DTSTART:20230614T000000
DTEND:20230615T000000
UID:2026-04-19-19-35-58@infocaslav.cz
DTSTAMP:20260419T173558
Description:
END:VEVENT
END:VCALENDAR
