BEGIN:VCALENDAR
VERSION:2.0
PRODID:-//www.gramonet.cz//GramonetCalLib 1.0//EN
CALSCALE:GREGORIAN
METHOD:PUBLISH
BEGIN:VEVENT
SUMMARY:Beseda s Janem Rejžkem
LOCATION:Synagoga v Čáslavi
DTSTART:20250314T000000
DTEND:20250315T000000
UID:2026-04-19-19-34-16@infocaslav.cz
DTSTAMP:20260419T173416
Description:
END:VEVENT
END:VCALENDAR
