BEGIN:VCALENDAR
VERSION:2.0
PRODID:-//www.gramonet.cz//GramonetCalLib 1.0//EN
CALSCALE:GREGORIAN
METHOD:PUBLISH
BEGIN:VEVENT
SUMMARY:beseda s Mgr. Markétou Dvořákovou
LOCATION:RC Kopretina
DTSTART:20221013T000000
DTEND:20221014T000000
UID:2026-04-19-21-06-09@infocaslav.cz
DTSTAMP:20260419T190609
Description:
END:VEVENT
END:VCALENDAR
