BEGIN:VCALENDAR
VERSION:2.0
PRODID:-//www.gramonet.cz//GramonetCalLib 1.0//EN
CALSCALE:GREGORIAN
METHOD:PUBLISH
BEGIN:VEVENT
SUMMARY:Beseda s publicistou a emeritním předsedou Federace židovských 
 obcí Tomášem Krausem
LOCATION:Synagoga v Čáslavi
DTSTART:20250917T000000
DTEND:20250918T000000
UID:2026-04-19-19-28-34@infocaslav.cz
DTSTAMP:20260419T172834
Description:
END:VEVENT
END:VCALENDAR
