BEGIN:VCALENDAR
VERSION:2.0
PRODID:-//www.gramonet.cz//GramonetCalLib 1.0//EN
CALSCALE:GREGORIAN
METHOD:PUBLISH
BEGIN:VEVENT
SUMMARY:Betlémy
LOCATION:Kostel Nanebevzetí Panny Marie Starkoč
DTSTART:20241207T000000
DTEND:20241230T000000
UID:2026-04-19-21-02-22@infocaslav.cz
DTSTAMP:20260419T190222
Description:
END:VEVENT
END:VCALENDAR
