BEGIN:VCALENDAR
VERSION:2.0
PRODID:-//www.gramonet.cz//GramonetCalLib 1.0//EN
CALSCALE:GREGORIAN
METHOD:PUBLISH
BEGIN:VEVENT
SUMMARY:Beze slov - Kristýna Felixová
LOCATION:Knihovna F. V. Lorence Vrdy
DTSTART:20241101T000000
DTEND:20241130T000000
UID:2026-04-19-19-36-14@infocaslav.cz
DTSTAMP:20260419T173614
Description:Výstava obrazů umělkyně Kristýny Felixové Beze Slov bude 
 probíhat od 1.11. 2024 do 29.11. 2024 v knihovně F. V. Lorence Vrdy\, Ty
 lova 25.
END:VEVENT
END:VCALENDAR
