BEGIN:VCALENDAR
VERSION:2.0
PRODID:-//www.gramonet.cz//GramonetCalLib 1.0//EN
CALSCALE:GREGORIAN
METHOD:PUBLISH
BEGIN:VEVENT
SUMMARY:Bezpečný pohyb na internetu a v digitálním prostředí
LOCATION:Městská knihovna Čáslav, Kostelní nám. 197
DTSTART:20251030T000000
DTEND:20251031T000000
UID:2026-04-19-21-17-47@infocaslav.cz
DTSTAMP:20260419T191747
Description:
END:VEVENT
END:VCALENDAR
