BEGIN:VCALENDAR
VERSION:2.0
PRODID:-//www.gramonet.cz//GramonetCalLib 1.0//EN
CALSCALE:GREGORIAN
METHOD:PUBLISH
BEGIN:VEVENT
SUMMARY:BibuBum na Kačině
LOCATION:Zámek Kačina
DTSTART:20240811T000000
DTEND:20240812T000000
UID:2026-04-19-21-01-19@infocaslav.cz
DTSTAMP:20260419T190119
Description:
END:VEVENT
END:VCALENDAR
