BEGIN:VCALENDAR
VERSION:2.0
PRODID:-//www.gramonet.cz//GramonetCalLib 1.0//EN
CALSCALE:GREGORIAN
METHOD:PUBLISH
BEGIN:VEVENT
SUMMARY:Bitva u Chotusic
LOCATION:Nová scéna Dusíkova divadla,  Masarykova 194
DTSTART:20220517T000000
DTEND:20220518T000000
UID:2026-04-19-19-26-17@infocaslav.cz
DTSTAMP:20260419T172617
Description:
END:VEVENT
END:VCALENDAR
