BEGIN:VCALENDAR
VERSION:2.0
PRODID:-//www.gramonet.cz//GramonetCalLib 1.0//EN
CALSCALE:GREGORIAN
METHOD:PUBLISH
BEGIN:VEVENT
SUMMARY:Bitva u Chotusic
LOCATION:Městské muzeum
DTSTART:20220401T000000
DTEND:20220402T000000
UID:2026-04-19-21-02-28@infocaslav.cz
DTSTAMP:20260419T190228
Description:
END:VEVENT
END:VCALENDAR
