BEGIN:VCALENDAR
VERSION:2.0
PRODID:-//www.gramonet.cz//GramonetCalLib 1.0//EN
CALSCALE:GREGORIAN
METHOD:PUBLISH
BEGIN:VEVENT
SUMMARY:BLACK & WHITE
LOCATION:Výstavní síň
DTSTART:20230926T000000
DTEND:20231023T000000
UID:2026-04-19-19-28-39@infocaslav.cz
DTSTAMP:20260419T172839
Description:
END:VEVENT
END:VCALENDAR
