BEGIN:VCALENDAR
VERSION:2.0
PRODID:-//www.gramonet.cz//GramonetCalLib 1.0//EN
CALSCALE:GREGORIAN
METHOD:PUBLISH
BEGIN:VEVENT
SUMMARY:Black Widow
LOCATION:Kino Miloše Formana, Jeníkovská 138/25, 28601
DTSTART:20220422T000000
DTEND:20220423T000000
UID:2026-04-19-19-28-35@infocaslav.cz
DTSTAMP:20260419T172835
Description:
END:VEVENT
END:VCALENDAR
