BEGIN:VCALENDAR
VERSION:2.0
PRODID:-//www.gramonet.cz//GramonetCalLib 1.0//EN
CALSCALE:GREGORIAN
METHOD:PUBLISH
BEGIN:VEVENT
SUMMARY:Blešák pod širákem
LOCATION:Otakarova věž Čáslav
DTSTART:20250608T000000
DTEND:20250609T000000
UID:2026-04-19-19-30-05@infocaslav.cz
DTSTAMP:20260419T173005
Description:
END:VEVENT
END:VCALENDAR
