BEGIN:VCALENDAR
VERSION:2.0
PRODID:-//www.gramonet.cz//GramonetCalLib 1.0//EN
CALSCALE:GREGORIAN
METHOD:PUBLISH
BEGIN:VEVENT
SUMMARY:Blešák v Sokolovně
LOCATION:Tělocvičná jednota Sokol Čáslav
DTSTART:20250322T000000
DTEND:20250323T000000
UID:2026-04-19-19-32-10@infocaslav.cz
DTSTAMP:20260419T173210
Description:T.J. Sokol Čáslav Vás zve na BLEŠÁK V SOKOLOVNĚ - pro dě
 ti i dospělé\, do domu i na zahradu\, praktické i na parádu.\nAkce se 
 uskuteční 22. 3. od 9:00 do 13 .00.
END:VEVENT
END:VCALENDAR
