BEGIN:VCALENDAR
VERSION:2.0
PRODID:-//www.gramonet.cz//GramonetCalLib 1.0//EN
CALSCALE:GREGORIAN
METHOD:PUBLISH
BEGIN:VEVENT
SUMMARY:Bohoslužby pro děti a dospělé
LOCATION:Komenského nám. 140
DTSTART:20220403T000000
DTEND:20220404T000000
UID:2026-04-19-19-36-02@infocaslav.cz
DTSTAMP:20260419T173602
Description:
END:VEVENT
END:VCALENDAR
