BEGIN:VCALENDAR
VERSION:2.0
PRODID:-//www.gramonet.cz//GramonetCalLib 1.0//EN
CALSCALE:GREGORIAN
METHOD:PUBLISH
BEGIN:VEVENT
SUMMARY:Březen měsíc čtenářů
LOCATION:Městská knihovna Čáslav
DTSTART:20260302T000000
DTEND:20260328T000000
UID:2026-04-19-19-26-37@infocaslav.cz
DTSTAMP:20260419T172637
Description:
END:VEVENT
END:VCALENDAR
