BEGIN:VCALENDAR
VERSION:2.0
PRODID:-//www.gramonet.cz//GramonetCalLib 1.0//EN
CALSCALE:GREGORIAN
METHOD:PUBLISH
BEGIN:VEVENT
SUMMARY:Březen v knihovně - Noc s Andersenem
LOCATION:Knihovna Čáslav
DTSTART:20240322T000000
DTEND:20240323T000000
UID:2026-04-19-19-35-59@infocaslav.cz
DTSTAMP:20260419T173559
Description:
END:VEVENT
END:VCALENDAR
