BEGIN:VCALENDAR
VERSION:2.0
PRODID:-//www.gramonet.cz//GramonetCalLib 1.0//EN
CALSCALE:GREGORIAN
METHOD:PUBLISH
BEGIN:VEVENT
SUMMARY:Brodskou ulici na Jeníkovské předměstí
LOCATION:Nám. J. Ž. z Trocnova, Čáslav
DTSTART:20250914T000000
DTEND:20250915T000000
UID:2026-04-19-21-00-11@infocaslav.cz
DTSTAMP:20260419T190011
Description:
END:VEVENT
END:VCALENDAR
