BEGIN:VCALENDAR
VERSION:2.0
PRODID:-//www.gramonet.cz//GramonetCalLib 1.0//EN
CALSCALE:GREGORIAN
METHOD:PUBLISH
BEGIN:VEVENT
SUMMARY:Brodskou ulici na Jeníkovské předměstí
LOCATION:sraz u pomníku Jana Žižky z Trocnova na náměstí
DTSTART:20250518T000000
DTEND:20250519T000000
UID:2026-04-19-21-07-58@infocaslav.cz
DTSTAMP:20260419T190758
Description:
END:VEVENT
END:VCALENDAR
