BEGIN:VCALENDAR
VERSION:2.0
PRODID:-//www.gramonet.cz//GramonetCalLib 1.0//EN
CALSCALE:GREGORIAN
METHOD:PUBLISH
BEGIN:VEVENT
SUMMARY:Bubákov na sadovce 2024
LOCATION:ZŠ Sadová, Čáslav
DTSTART:20241025T000000
DTEND:20241026T000000
UID:2026-04-19-19-30-50@infocaslav.cz
DTSTAMP:20260419T173050
Description:
END:VEVENT
END:VCALENDAR
