BEGIN:VCALENDAR
VERSION:2.0
PRODID:-//www.gramonet.cz//GramonetCalLib 1.0//EN
CALSCALE:GREGORIAN
METHOD:PUBLISH
BEGIN:VEVENT
SUMMARY:Buď chlap - letní kino
LOCATION:zahrada Diakonie
DTSTART:20230719T000000
DTEND:20230720T000000
UID:2026-04-19-19-33-10@infocaslav.cz
DTSTAMP:20260419T173310
Description:
END:VEVENT
END:VCALENDAR
