BEGIN:VCALENDAR
VERSION:2.0
PRODID:-//www.gramonet.cz//GramonetCalLib 1.0//EN
CALSCALE:GREGORIAN
METHOD:PUBLISH
BEGIN:VEVENT
SUMMARY:Bylinky a jarní očista těla
LOCATION:Stará škola v Kraskově
DTSTART:20240411T000000
DTEND:20240412T000000
UID:2026-04-19-19-36-50@infocaslav.cz
DTSTAMP:20260419T173650
Description:
END:VEVENT
END:VCALENDAR
