BEGIN:VCALENDAR
VERSION:2.0
PRODID:-//www.gramonet.cz//GramonetCalLib 1.0//EN
CALSCALE:GREGORIAN
METHOD:PUBLISH
BEGIN:VEVENT
SUMMARY:C'mon C'mon
LOCATION:Kino Miloše Formana, Jeníkovská 138/25
DTSTART:20220209T000000
DTEND:20220210T000000
UID:2026-04-19-20-57-35@infocaslav.cz
DTSTAMP:20260419T185735
Description:
END:VEVENT
END:VCALENDAR
