BEGIN:VCALENDAR
VERSION:2.0
PRODID:-//www.gramonet.cz//GramonetCalLib 1.0//EN
CALSCALE:GREGORIAN
METHOD:PUBLISH
BEGIN:VEVENT
SUMMARY:Cabrio meeting Čáslav vol. 7
LOCATION:Nám. J. Ž. z Trocnova, Čáslav
DTSTART:20250622T000000
DTEND:20250623T000000
UID:2026-04-19-19-34-14@infocaslav.cz
DTSTAMP:20260419T173414
Description:
END:VEVENT
END:VCALENDAR
