BEGIN:VCALENDAR
VERSION:2.0
PRODID:-//www.gramonet.cz//GramonetCalLib 1.0//EN
CALSCALE:GREGORIAN
METHOD:PUBLISH
BEGIN:VEVENT
SUMMARY:Čáslav Miloši Formanovi
LOCATION:Evangelický kostel
DTSTART:20220917T000000
DTEND:20220919T000000
UID:2026-04-19-19-33-23@infocaslav.cz
DTSTAMP:20260419T173323
Description:
END:VEVENT
END:VCALENDAR
