BEGIN:VCALENDAR
VERSION:2.0
PRODID:-//www.gramonet.cz//GramonetCalLib 1.0//EN
CALSCALE:GREGORIAN
METHOD:PUBLISH
BEGIN:VEVENT
SUMMARY:Čáslaví známou i neznámou
LOCATION:
DTSTART:20240518T000000
DTEND:20240519T000000
UID:2026-04-19-21-07-59@infocaslav.cz
DTSTAMP:20260419T190759
Description:Vlastivědná procházka Čáslaví s PhDr. Janou Vaněčkovou 
 v rámci Mezinárodního dne muzeí.\nZačátek v 17 hodin před budovou M
 ěstského muzea v Čáslavi.
END:VEVENT
END:VCALENDAR
