BEGIN:VCALENDAR
VERSION:2.0
PRODID:-//www.gramonet.cz//GramonetCalLib 1.0//EN
CALSCALE:GREGORIAN
METHOD:PUBLISH
BEGIN:VEVENT
SUMMARY:ČÁSLAVÍ ZNÁMOU I NEZNÁMOU
LOCATION:Muzeum
DTSTART:20230518T000000
DTEND:20230519T000000
UID:2026-04-19-21-07-17@infocaslav.cz
DTSTAMP:20260419T190717
Description:
END:VEVENT
END:VCALENDAR
