BEGIN:VCALENDAR
VERSION:2.0
PRODID:-//www.gramonet.cz//GramonetCalLib 1.0//EN
CALSCALE:GREGORIAN
METHOD:PUBLISH
BEGIN:VEVENT
SUMMARY:Čáslavská vánoční nadílka
LOCATION:Před radnicí
DTSTART:20231215T000000
DTEND:20231216T000000
UID:2026-04-19-19-26-28@infocaslav.cz
DTSTAMP:20260419T172628
Description:
END:VEVENT
END:VCALENDAR
