BEGIN:VCALENDAR
VERSION:2.0
PRODID:-//www.gramonet.cz//GramonetCalLib 1.0//EN
CALSCALE:GREGORIAN
METHOD:PUBLISH
BEGIN:VEVENT
SUMMARY:Čáslavské kostely a modlitebny
LOCATION:Městské muzeum Čáslav, Husova 291
DTSTART:20220518T000000
DTEND:20220519T000000
UID:2026-04-19-19-33-21@infocaslav.cz
DTSTAMP:20260419T173321
Description:
END:VEVENT
END:VCALENDAR
