BEGIN:VCALENDAR
VERSION:2.0
PRODID:-//www.gramonet.cz//GramonetCalLib 1.0//EN
CALSCALE:GREGORIAN
METHOD:PUBLISH
BEGIN:VEVENT
SUMMARY:Čáslavské kvízy
LOCATION:salónek Hotelu Grand Čáslav
DTSTART:20260417T000000
DTEND:20260418T000000
UID:2026-04-19-19-26-39@infocaslav.cz
DTSTAMP:20260419T172639
Description:
END:VEVENT
END:VCALENDAR
