BEGIN:VCALENDAR
VERSION:2.0
PRODID:-//www.gramonet.cz//GramonetCalLib 1.0//EN
CALSCALE:GREGORIAN
METHOD:PUBLISH
BEGIN:VEVENT
SUMMARY:Čáslavské kvízy - Restaurace Na Hřišti
LOCATION:Restaurace Na Hřišti
DTSTART:20260513T000000
DTEND:20260514T000000
UID:2026-04-19-19-28-07@infocaslav.cz
DTSTAMP:20260419T172807
Description:
END:VEVENT
END:VCALENDAR
