BEGIN:VCALENDAR
VERSION:2.0
PRODID:-//www.gramonet.cz//GramonetCalLib 1.0//EN
CALSCALE:GREGORIAN
METHOD:PUBLISH
BEGIN:VEVENT
SUMMARY:Čáslavské slavnosti 2024
LOCATION:Náměstí Jana Žižky z Trocnova
DTSTART:20240622T000000
DTEND:20240623T000000
UID:2026-04-19-19-35-18@infocaslav.cz
DTSTAMP:20260419T173518
Description:Letošní Čáslavské slavnosti jsou spojeny s oslavami 600. v
 ýročí od úmrtí slavného husitského vojevůdce Jana Žižky z Trocno
 va. A Žižka se do Čáslavi vrátí! Spolu se svou družinou věrných s
 e návštěvníkům za doprovodu chórů ukáže v průvodu městem. Krom
  typické bohaté nabídky gastronomie místní i exotické\, pestrého v
 ýběru zboží na trzích\, historických autobusů\, ukázky vojenské t
 echniky\, veteránů z Přelouče a otevřených památek čeká na návš
 těvníky i doprovodný program ve dvou "family zónách".\n\nJedna z nich
  bude za Otakarovou baštou\, kde se mohou návštěvníci projít dobový
 m ležením za doprovodu libých tónů\, navštívit vystoupení sokolní
 ka či se vyfotit s válečníky.\nDruhá sekce vznikne od knihovny na Kos
 telní náměstí\, kde bude čekat na děti stánek DDM Čáslav v aktivi
 tami\, historické dobové hry\, šermířské vystoupení\, kapela Grál\
 , divadelní představení a stánky s ukázkou řemesel a dětskými díl
 ničkami.\n\nNenechte si ujít v sobotu 22. 6. 2024 od 10:00 Čáslavské 
 slavnosti i Vy!
END:VEVENT
END:VCALENDAR
