BEGIN:VCALENDAR
VERSION:2.0
PRODID:-//www.gramonet.cz//GramonetCalLib 1.0//EN
CALSCALE:GREGORIAN
METHOD:PUBLISH
BEGIN:VEVENT
SUMMARY:17. Čáslavský hudební festival
LOCATION:Kostelní zahrada ČCE, Čáslav
DTSTART:20240803T000000
DTEND:20240804T000000
UID:2026-04-19-19-34-32@infocaslav.cz
DTSTAMP:20260419T173432
Description:Čáslavský hudební festival se koná 3.8.2024 od 14:00 hod. 
 Vstupné 200Kč\, děti do 6let zdarma a děti do 12let 100Kč.
END:VEVENT
END:VCALENDAR
