BEGIN:VCALENDAR
VERSION:2.0
PRODID:-//www.gramonet.cz//GramonetCalLib 1.0//EN
CALSCALE:GREGORIAN
METHOD:PUBLISH
BEGIN:VEVENT
SUMMARY:Čáslavský strongman
LOCATION:Žižkovo náměstí
DTSTART:20220507T000000
DTEND:20220508T000000
UID:2026-04-19-19-30-06@infocaslav.cz
DTSTAMP:20260419T173006
Description:
END:VEVENT
END:VCALENDAR
