BEGIN:VCALENDAR
VERSION:2.0
PRODID:-//www.gramonet.cz//GramonetCalLib 1.0//EN
CALSCALE:GREGORIAN
METHOD:PUBLISH
BEGIN:VEVENT
SUMMARY:Čertovská stezka
LOCATION:lesopark Vodranty
DTSTART:20251207T000000
DTEND:20251208T000000
UID:2026-04-19-21-04-55@infocaslav.cz
DTSTAMP:20260419T190455
Description:
END:VEVENT
END:VCALENDAR
