BEGIN:VCALENDAR
VERSION:2.0
PRODID:-//www.gramonet.cz//GramonetCalLib 1.0//EN
CALSCALE:GREGORIAN
METHOD:PUBLISH
BEGIN:VEVENT
SUMMARY:Červená Středa
LOCATION:Evangelický kostel Čáslav
DTSTART:20241127T000000
DTEND:20241128T000000
UID:2026-04-19-19-30-46@infocaslav.cz
DTSTAMP:20260419T173046
Description:
END:VEVENT
END:VCALENDAR
