BEGIN:VCALENDAR
VERSION:2.0
PRODID:-//www.gramonet.cz//GramonetCalLib 1.0//EN
CALSCALE:GREGORIAN
METHOD:PUBLISH
BEGIN:VEVENT
SUMMARY:Česká cena za architekturu
LOCATION:zahrada evangelického kostela
DTSTART:20230929T000000
DTEND:20231024T000000
UID:2026-04-19-21-05-30@infocaslav.cz
DTSTAMP:20260419T190530
Description:
END:VEVENT
END:VCALENDAR
