BEGIN:VCALENDAR
VERSION:2.0
PRODID:-//www.gramonet.cz//GramonetCalLib 1.0//EN
CALSCALE:GREGORIAN
METHOD:PUBLISH
BEGIN:VEVENT
SUMMARY:Česko zpívá koledy
LOCATION:Nám. Jana Žižky z Trocnova
DTSTART:20231213T000000
DTEND:20231214T000000
UID:2026-04-19-21-06-10@infocaslav.cz
DTSTAMP:20260419T190610
Description:Sejdeme se 13. prosince 2023\, abychom si společně v jednu ch
 víli opět zazpívali stejné koledy a prožili příjemný adventní ča
 s.
END:VEVENT
END:VCALENDAR
