BEGIN:VCALENDAR
VERSION:2.0
PRODID:-//www.gramonet.cz//GramonetCalLib 1.0//EN
CALSCALE:GREGORIAN
METHOD:PUBLISH
BEGIN:VEVENT
SUMMARY:Česko zpívá koledy
LOCATION:náměstí Jana Žižky
DTSTART:20221207T000000
DTEND:20221208T000000
UID:2026-04-19-19-26-42@infocaslav.cz
DTSTAMP:20260419T172642
Description:
END:VEVENT
END:VCALENDAR
