BEGIN:VCALENDAR
VERSION:2.0
PRODID:-//www.gramonet.cz//GramonetCalLib 1.0//EN
CALSCALE:GREGORIAN
METHOD:PUBLISH
BEGIN:VEVENT
SUMMARY:Cesta k životní rovnováze
LOCATION:Gumárna
DTSTART:20221208T000000
DTEND:20221209T000000
UID:2026-04-19-19-35-59@infocaslav.cz
DTSTAMP:20260419T173559
Description:
END:VEVENT
END:VCALENDAR
