BEGIN:VCALENDAR
VERSION:2.0
PRODID:-//www.gramonet.cz//GramonetCalLib 1.0//EN
CALSCALE:GREGORIAN
METHOD:PUBLISH
BEGIN:VEVENT
SUMMARY:Cestami lÃ¡sky
LOCATION:VilÃ©mov
DTSTART:20231020T000000
DTEND:20231021T000000
UID:2026-04-19-19-30-08@infocaslav.cz
DTSTAMP:20260419T173008
Description:KomornÄ› ladÄ›nÃ½ koncert spojujÃ­cÃ­ zpÄ›v\, tÃ³ny harfy a umÄ
 ›leckÃ½ pÅ™ednes poezie.
END:VEVENT
END:VCALENDAR
