BEGIN:VCALENDAR
VERSION:2.0
PRODID:-//www.gramonet.cz//GramonetCalLib 1.0//EN
CALSCALE:GREGORIAN
METHOD:PUBLISH
BEGIN:VEVENT
SUMMARY:Cestovatelská beseda s Hanou Kátrovou
LOCATION:MěÚ Ronov nad Doubravou
DTSTART:20240327T000000
DTEND:20240328T000000
UID:2026-04-19-19-35-21@infocaslav.cz
DTSTAMP:20260419T173521
Description:
END:VEVENT
END:VCALENDAR
