BEGIN:VCALENDAR
VERSION:2.0
PRODID:-//www.gramonet.cz//GramonetCalLib 1.0//EN
CALSCALE:GREGORIAN
METHOD:PUBLISH
BEGIN:VEVENT
SUMMARY:Cestovatelská přednáška - Lovci lebek
LOCATION:Gumárna
DTSTART:20221012T000000
DTEND:20221013T000000
UID:2026-04-19-19-35-42@infocaslav.cz
DTSTAMP:20260419T173542
Description:
END:VEVENT
END:VCALENDAR
