BEGIN:VCALENDAR
VERSION:2.0
PRODID:-//www.gramonet.cz//GramonetCalLib 1.0//EN
CALSCALE:GREGORIAN
METHOD:PUBLISH
BEGIN:VEVENT
SUMMARY:Cestovateská přednáška - Toulavá motorka - Do Gruzie a zpět z
 a 2 měsíce
LOCATION:Gumárna
DTSTART:20221023T000000
DTEND:20221024T000000
UID:2026-04-19-19-37-17@infocaslav.cz
DTSTAMP:20260419T173717
Description:
END:VEVENT
END:VCALENDAR
